BEGIN:VCALENDAR
VERSION:2.0
PRODID:-//eventon.com NONSGML v1.0//EN
BEGIN:VEVENT
UID:69e73a99e14de
DTSTAMP:20260421T105137
DTSTART:20240412T093000Z
DTEND:20240412T120000Z
TZID:Europe/Paris
LOCATION:Centre social La Puce à L&#039;oreille Rue Guillaume Apollinaire à Saint-Brieuc
SUMMARY:Exposition métiers - soins et services à la personne âgee
DESCRIPTION: Plongez dans l’environnement professionnel des métiers du soin et des services à la personne âgée ! La Cité des Métiers des Côtes d’Armor propose un outil innovant de découverte et de valorisation de ces métiers grâce à un parcours ludique et immersif permettant de mieux connaître la réalité des gestes professionnels[..]\nhttps://citedesmetiers22.fr/evenements/exposition-metiers-soins-et-services-a-la-personne-agee/
URL:https://citedesmetiers22.fr/evenements/exposition-metiers-soins-et-services-a-la-personne-agee/
END:VEVENT
END:VCALENDAR